BEGIN:VCALENDAR
VERSION:2.0
PRODID:-//Plone.org//NONSGML plone.app.event//EN
X-WR-TIMEZONE:US/Eastern
BEGIN:VEVENT
SUMMARY:Page Turners' Book Club
DTSTART;TZID=US/Eastern:20220809T130000
DTEND;TZID=US/Eastern:20220809T140000
DTSTAMP:20260419T213026Z
UID:74b69d919c794e4c8b38000c14713daf@saas_stack_varnish:6080
CREATED:20220114T210610Z
LAST-MODIFIED:20220114T210706Z
LOCATION:Library Meeting Room
URL:https://www.morton.michlibrary.org/news-events/lib-cal/page-turners-bo
 ok-club-2/2022-08-09
END:VEVENT
BEGIN:VTIMEZONE
TZID:US/Eastern
X-LIC-LOCATION:US/Eastern
BEGIN:DAYLIGHT
DTSTART:20220313T030000
TZNAME:EDT
TZOFFSETFROM:-0500
TZOFFSETTO:-0400
END:DAYLIGHT
END:VTIMEZONE
END:VCALENDAR
