BEGIN:VCALENDAR
VERSION:2.0
PRODID:-//Plone.org//NONSGML plone.app.event//EN
X-WR-TIMEZONE:US/Eastern
BEGIN:VEVENT
SUMMARY:Page Turners' Book Club
DTSTART;TZID=US/Eastern:20180109T130000
DTEND;TZID=US/Eastern:20180109T140000
DTSTAMP:20260420T115957Z
UID:1380a97c1fac4ef1bb6c4cac2be129b7@saas_stack_varnish:6080
RRULE:FREQ=MONTHLY;UNTIL=20190109T000000;BYDAY=+2TU
CREATED:20180103T181123Z
LAST-MODIFIED:20180103T181129Z
LOCATION:Library Meeting Room
URL:https://www.morton.michlibrary.org/news-events/lib-cal/page-turners-bo
 ok-club-1
END:VEVENT
BEGIN:VTIMEZONE
TZID:US/Eastern
X-LIC-LOCATION:US/Eastern
BEGIN:STANDARD
DTSTART:20171105T010000
TZNAME:EST
TZOFFSETFROM:-0400
TZOFFSETTO:-0500
END:STANDARD
END:VTIMEZONE
END:VCALENDAR
