BEGIN:VCALENDAR
VERSION:2.0
PRODID:-//Plone.org//NONSGML plone.app.event//EN
X-WR-TIMEZONE:US/Eastern
BEGIN:VEVENT
SUMMARY:Page Turners' Book Club
DTSTART;TZID=US/Eastern:20181113T130000
DTEND;TZID=US/Eastern:20181113T140000
DTSTAMP:20260420T101800Z
UID:1380a97c1fac4ef1bb6c4cac2be129b7@saas_stack_varnish:6080
CREATED:20180103T181123Z
LAST-MODIFIED:20180103T181129Z
LOCATION:Library Meeting Room
URL:https://www.morton.michlibrary.org/news-events/lib-cal/page-turners-bo
 ok-club-1/2018-11-13
END:VEVENT
BEGIN:VTIMEZONE
TZID:US/Eastern
X-LIC-LOCATION:US/Eastern
BEGIN:STANDARD
DTSTART:20181104T010000
TZNAME:EST
TZOFFSETFROM:-0400
TZOFFSETTO:-0500
END:STANDARD
END:VTIMEZONE
END:VCALENDAR
