BEGIN:VCALENDAR
VERSION:2.0
PRODID:-//Plone.org//NONSGML plone.app.event//EN
X-WR-TIMEZONE:US/Eastern
BEGIN:VEVENT
SUMMARY:Oceans in Motion presented by Amazing Clark
DTSTART;TZID=US/Eastern:20240619T133000
DTEND;TZID=US/Eastern:20240619T143000
DTSTAMP:20260421T103833Z
UID:e16147513d2a4c67b6d316eef3301fde@saas_stack_varnish:6080
CREATED:20240520T175711Z
DESCRIPTION:Children and families are invited to join the Amazing Clark fo
 r an interactive comedy show filled with exciting magic tricks\, comedy\, 
 and plenty of audience participation that encompasses the theme "Oceans in
  Motion."
LAST-MODIFIED:20240520T175807Z
LOCATION:Morton Township Library Community Room
URL:https://www.morton.michlibrary.org/news-events/lib-cal/oceans-in-motio
 n-presented-by-amazing-clark
END:VEVENT
BEGIN:VTIMEZONE
TZID:US/Eastern
X-LIC-LOCATION:US/Eastern
BEGIN:DAYLIGHT
DTSTART:20240310T030000
TZNAME:EDT
TZOFFSETFROM:-0500
TZOFFSETTO:-0400
END:DAYLIGHT
END:VTIMEZONE
END:VCALENDAR
