BEGIN:VCALENDAR
VERSION:2.0
PRODID:-//Plone.org//NONSGML plone.app.event//EN
X-WR-TIMEZONE:US/Eastern
BEGIN:VEVENT
SUMMARY:Nerf Wars (Teen Summer Reading Program)
DTSTART;TZID=US/Eastern:20240520T133000
DTEND;TZID=US/Eastern:20240520T143000
DTSTAMP:20260421T100017Z
UID:c9b7b02ff2704732950c8c25dd7fb7ce@saas_stack_varnish:6080
CREATED:20240520T182252Z
DESCRIPTION:Join in the NERF fun as you run\, dodge\, dive and blast the c
 ompetition!  From Capture the Flag to Eliminator to Zombie vs. Humans\, pl
 ayers will put their physical and mental skills to the test.  Nerf blaster
 s and darts are provided.  Are you Nerf enough?
LAST-MODIFIED:20240520T182258Z
LOCATION:Morton Township Library Community Room
URL:https://www.morton.michlibrary.org/news-events/lib-cal/nerf-wars-teen-
 summer-reading-program
END:VEVENT
BEGIN:VTIMEZONE
TZID:US/Eastern
X-LIC-LOCATION:US/Eastern
BEGIN:DAYLIGHT
DTSTART:20240310T030000
TZNAME:EDT
TZOFFSETFROM:-0500
TZOFFSETTO:-0400
END:DAYLIGHT
END:VTIMEZONE
END:VCALENDAR
