BEGIN:VCALENDAR
VERSION:2.0
PRODID:-//Plone.org//NONSGML plone.app.event//EN
X-WR-TIMEZONE:US/Eastern
BEGIN:VEVENT
SUMMARY:Nerf Mobile Games (Teen Summer Reading Program)
DTSTART;TZID=US/Eastern:20230727T133000
DTEND;TZID=US/Eastern:20230727T143000
DTSTAMP:20260419T154039Z
UID:8aca2b505f9b489fa24285bd9783f5db@saas_stack_varnish:6080
CREATED:20230517T194249Z
DESCRIPTION:Join in the NERF fun as you run\, dodge\, dive and blast the c
 ompetition!  From Capture the Flag to Eliminator to Zombie vs. Humans\, pl
 ayers will put their physical and mental skills to the test.  Nerf blaster
 s and darts are provided.  After the games\, enjoy some ice cream with all
  the fixings to celebrate a great summer of fun!
LAST-MODIFIED:20230517T194254Z
LOCATION:Morton Township Library Community Room
URL:https://www.morton.michlibrary.org/news-events/lib-cal/nerf-mobile-gam
 es-teen-summer-reading-program
END:VEVENT
BEGIN:VTIMEZONE
TZID:US/Eastern
X-LIC-LOCATION:US/Eastern
BEGIN:DAYLIGHT
DTSTART:20230312T030000
TZNAME:EDT
TZOFFSETFROM:-0500
TZOFFSETTO:-0400
END:DAYLIGHT
END:VTIMEZONE
END:VCALENDAR
