BEGIN:VCALENDAR
VERSION:2.0
PRODID:-//Plone.org//NONSGML plone.app.event//EN
X-WR-TIMEZONE:US/Eastern
BEGIN:VEVENT
SUMMARY:Mike Fornes presents "101 Things That Happened on the Mackinac Bri
 dge"
DTSTART;TZID=US/Eastern:20180823T190000
DTEND;TZID=US/Eastern:20180823T200000
DTSTAMP:20260424T103145Z
UID:f74cbe5b9af743cba8bcd0ab365c5ff2@saas_stack_varnish:6080
CREATED:20180515T235837Z
DESCRIPTION:Mike Fornes has covered the Mackinac Bridge for more than 26 y
 ears.  A resident of Mackinaw City\, he is the author of "Mackinac Bridge:
  a 50 Year Chronicle 1957-2007".
LAST-MODIFIED:20180515T235843Z
LOCATION:Community Room
URL:https://www.morton.michlibrary.org/news-events/lib-cal/mike-fornes-pre
 sents-101-things-that-happened-on-the-mackinac-bridge
END:VEVENT
BEGIN:VTIMEZONE
TZID:US/Eastern
X-LIC-LOCATION:US/Eastern
BEGIN:DAYLIGHT
DTSTART:20180311T030000
TZNAME:EDT
TZOFFSETFROM:-0500
TZOFFSETTO:-0400
END:DAYLIGHT
END:VTIMEZONE
END:VCALENDAR
