BEGIN:VCALENDAR
VERSION:2.0
PRODID:-//Plone.org//NONSGML plone.app.event//EN
X-WR-TIMEZONE:US/Eastern
BEGIN:VEVENT
SUMMARY:Michigan's Most Dangerous Women
DTSTART;TZID=US/Eastern:20220802T190000
DTEND;TZID=US/Eastern:20220802T200000
DTSTAMP:20260419T212450Z
UID:9e6722c003224cc585314bd6a3fd00d2@saas_stack_varnish:6080
CREATED:20220511T200621Z
DESCRIPTION:Take a peek behind the walls of the old Detroit House of Corre
 ction\, the only Michigan prison to house female inmates serving long-term
  sentences\, and meet some of the most dangerous women in Michigan history
 : a serial prisoner who killed over a dozen individuals because she wanted
  to don her black dress and attend funerals\, a wife who used an ax to sev
 er her marriage\, and more.  True crime author Tobin Buhk will introduce t
 he audience to these and many other morbidly intriguing characters in “M
 ichigan’s Most Dangerous Women”.
LAST-MODIFIED:20220511T200628Z
LOCATION:Library Community Room
URL:https://www.morton.michlibrary.org/news-events/lib-cal/michigans-most-
 dangerous-women
END:VEVENT
BEGIN:VTIMEZONE
TZID:US/Eastern
X-LIC-LOCATION:US/Eastern
BEGIN:DAYLIGHT
DTSTART:20220313T030000
TZNAME:EDT
TZOFFSETFROM:-0500
TZOFFSETTO:-0400
END:DAYLIGHT
END:VTIMEZONE
END:VCALENDAR
