BEGIN:VCALENDAR
VERSION:2.0
PRODID:-//Plone.org//NONSGML plone.app.event//EN
X-WR-TIMEZONE:US/Eastern
BEGIN:VEVENT
SUMMARY:Michigan Notable Author Stephen Mack Jones Book Talk and Signing
DTSTART;TZID=US/Eastern:20180523T190000
DTEND;TZID=US/Eastern:20180523T200000
DTSTAMP:20260424T114312Z
UID:e1df9b0733824025865a6745d73f16bc@saas_stack_varnish:6080
CREATED:20180515T234857Z
LAST-MODIFIED:20180515T234905Z
LOCATION:Community Room
URL:https://www.morton.michlibrary.org/news-events/lib-cal/michigan-notabl
 e-author-stephen-mack-jones-book-talk-and-signing
END:VEVENT
BEGIN:VTIMEZONE
TZID:US/Eastern
X-LIC-LOCATION:US/Eastern
BEGIN:DAYLIGHT
DTSTART:20180311T030000
TZNAME:EDT
TZOFFSETFROM:-0500
TZOFFSETTO:-0400
END:DAYLIGHT
END:VTIMEZONE
END:VCALENDAR
