BEGIN:VCALENDAR
VERSION:2.0
PRODID:-//Plone.org//NONSGML plone.app.event//EN
X-WR-TIMEZONE:US/Eastern
BEGIN:VEVENT
SUMMARY:Michigan Malicious presented by Author Tobin Buhk
DTSTART;TZID=US/Eastern:20230907T190000
DTEND;TZID=US/Eastern:20230907T200000
DTSTAMP:20260419T154131Z
UID:b7775c86f4824cf09032ff476a4178c3@saas_stack_varnish:6080
CREATED:20230419T143246Z
DESCRIPTION:Come face-to-face with the miscreants who put the "malicious" 
 in Michigan history. Join dynamic speaker and Michigan true-crime author T
 obin T. Buhk as he introduces fifteen of the boldest\, bloodiest criminals
  in the history of the Great Lakes State.\n\n(Due to the nature of this pr
 ogram\, it is for ages 18 and up.)
LAST-MODIFIED:20230822T163353Z
LOCATION:Morton Township Library Community Room
URL:https://www.morton.michlibrary.org/news-events/lib-cal/michigan-malici
 ous-presented-by-author-tobin-buhk
END:VEVENT
BEGIN:VTIMEZONE
TZID:US/Eastern
X-LIC-LOCATION:US/Eastern
BEGIN:DAYLIGHT
DTSTART:20230312T030000
TZNAME:EDT
TZOFFSETFROM:-0500
TZOFFSETTO:-0400
END:DAYLIGHT
END:VTIMEZONE
END:VCALENDAR
