BEGIN:VCALENDAR
VERSION:2.0
PRODID:-//Plone.org//NONSGML plone.app.event//EN
X-WR-TIMEZONE:US/Eastern
BEGIN:VEVENT
SUMMARY:Michael Deren\, The Past in Person - Civil War Musician
DTSTART;TZID=US/Eastern:20190618T190000
DTEND;TZID=US/Eastern:20190618T200000
DTSTAMP:20260420T083109Z
UID:63c6c0e47e9e472983988f8a97634f2e@saas_stack_varnish:6080
CREATED:20190514T195206Z
DESCRIPTION:Join Union Sergeant Michael Deren as he transports you back in
  time to April 1\, 1865\, eight days before the end of the Civil War.  Ser
 geant Deren presents a historical\, musical\, educational\, participative 
 journey to our past to a time of great conflict in our country.
LAST-MODIFIED:20190514T195304Z
LOCATION:Library Community Room
URL:https://www.morton.michlibrary.org/news-events/lib-cal/michael-dren-th
 e-past-in-person-civil-war-musician
END:VEVENT
BEGIN:VTIMEZONE
TZID:US/Eastern
X-LIC-LOCATION:US/Eastern
BEGIN:DAYLIGHT
DTSTART:20190310T030000
TZNAME:EDT
TZOFFSETFROM:-0500
TZOFFSETTO:-0400
END:DAYLIGHT
END:VTIMEZONE
END:VCALENDAR
