BEGIN:VCALENDAR
VERSION:2.0
PRODID:-//Plone.org//NONSGML plone.app.event//EN
X-WR-TIMEZONE:US/Eastern
BEGIN:VEVENT
SUMMARY:MellyPop! Puppets - Dr. Dolittle Puppet Show (Children's Summer Re
 ading Program)
DTSTART;TZID=US/Eastern:20230712T133000
DTEND;TZID=US/Eastern:20230712T143000
DTSTAMP:20260419T170507Z
UID:8e214fd8e9c746709831cbc7c84ea305@saas_stack_varnish:6080
CREATED:20230517T190004Z
DESCRIPTION:Have fun hanging out with Dottie\, Dr. Dolittle's bumbling new
  assistant\, as she shares stories with all of the magical\, talking anima
 ls!
LAST-MODIFIED:20230517T190407Z
LOCATION:Morton Township Library Community Room
URL:https://www.morton.michlibrary.org/news-events/lib-cal/mellypop-puppet
 s-dr-dolittle-puppet-show
END:VEVENT
BEGIN:VTIMEZONE
TZID:US/Eastern
X-LIC-LOCATION:US/Eastern
BEGIN:DAYLIGHT
DTSTART:20230312T030000
TZNAME:EDT
TZOFFSETFROM:-0500
TZOFFSETTO:-0400
END:DAYLIGHT
END:VTIMEZONE
END:VCALENDAR
