BEGIN:VCALENDAR
VERSION:2.0
PRODID:-//Plone.org//NONSGML plone.app.event//EN
X-WR-TIMEZONE:US/Eastern
BEGIN:VEVENT
SUMMARY:Meet Mae West presented by Martina Mathisen (Online - Zoom)
DTSTART;TZID=US/Eastern:20210812T190000
DTEND;TZID=US/Eastern:20210812T200000
DTSTAMP:20260420T001641Z
UID:bda640f6c0b6412c869f36c1a04c8535@saas_stack_varnish:6080
CREATED:20210512T171617Z
DESCRIPTION:Mae West shattered box office records and public sensibilities
 .  She rocketed from Broad-\nway to become the highest-paid actress in Hol
 lywood.  Her one-liners scandalized the \ncensors yet made her an icon.  S
 he rescued studios from bankruptcy and created stars.  Without her\, Cary 
 Grant may have remained a nobody.  Meet the woman behind the wit.  Who was
  Mae West\, really?  Martina Mathisen\, educational entertainer\, presents
  this fun and engaging program.  The link to attend this Zoom presentation
  will be posted here prior to the event.
LAST-MODIFIED:20210512T171623Z
LOCATION:Online - Zoom
URL:https://www.morton.michlibrary.org/news-events/lib-cal/meet-mae-west-p
 resented-by-martina-mathisen-online-zoom
END:VEVENT
BEGIN:VTIMEZONE
TZID:US/Eastern
X-LIC-LOCATION:US/Eastern
BEGIN:DAYLIGHT
DTSTART:20210314T030000
TZNAME:EDT
TZOFFSETFROM:-0500
TZOFFSETTO:-0400
END:DAYLIGHT
END:VTIMEZONE
END:VCALENDAR
