BEGIN:VCALENDAR
VERSION:2.0
PRODID:-//Plone.org//NONSGML plone.app.event//EN
X-WR-TIMEZONE:US/Eastern
BEGIN:VEVENT
SUMMARY:Magic Workshop with Jeff Wawrzaszek (Online - Zoom)
DTSTART;TZID=US/Eastern:20200625T133000
DTEND;TZID=US/Eastern:20200625T141500
DTSTAMP:20260420T014529Z
UID:31c6d48b6d5a42c1b6bd5efd2ac0a45d@saas_stack_varnish:6080
CONTACT:231-972-8315\, info@mtplibrary.org
CREATED:20200531T024930Z
LAST-MODIFIED:20200625T114235Z
LOCATION:Online - Zoom
URL:https://www.morton.michlibrary.org/news-events/lib-cal/magic-workshop-
 with-jeff-wawrzaszek
END:VEVENT
BEGIN:VTIMEZONE
TZID:US/Eastern
X-LIC-LOCATION:US/Eastern
BEGIN:DAYLIGHT
DTSTART:20200308T030000
TZNAME:EDT
TZOFFSETFROM:-0500
TZOFFSETTO:-0400
END:DAYLIGHT
END:VTIMEZONE
END:VCALENDAR
