BEGIN:VCALENDAR
VERSION:2.0
PRODID:-//Plone.org//NONSGML plone.app.event//EN
X-WR-TIMEZONE:US/Eastern
BEGIN:VEVENT
SUMMARY:Magic Workshop with Jeff Wawrzaszek (Teen Summer Reading Program)
DTSTART;TZID=US/Eastern:20230706T133000
DTEND;TZID=US/Eastern:20230706T143000
DTSTAMP:20260419T170409Z
UID:bcd3964bda1c4de19300663178e150d4@saas_stack_varnish:6080
CREATED:20230517T193837Z
DESCRIPTION:Family and friends won't believe their eyes when you present t
 he simply amazing\, yet amazingly simple\, magic tricks you'll learn in th
 is fun workshop.
LAST-MODIFIED:20230517T194334Z
LOCATION:Morton Township Library Community Room
URL:https://www.morton.michlibrary.org/news-events/lib-cal/magic-workshop-
 with-jeff-wawrzaszek-teen-summer-reading-program
END:VEVENT
BEGIN:VTIMEZONE
TZID:US/Eastern
X-LIC-LOCATION:US/Eastern
BEGIN:DAYLIGHT
DTSTART:20230312T030000
TZNAME:EDT
TZOFFSETFROM:-0500
TZOFFSETTO:-0400
END:DAYLIGHT
END:VTIMEZONE
END:VCALENDAR
