BEGIN:VCALENDAR
VERSION:2.0
PRODID:-//Plone.org//NONSGML plone.app.event//EN
X-WR-TIMEZONE:US/Eastern
BEGIN:VEVENT
SUMMARY:Library Closed - Thanksgiving
DTSTART;TZID=US/Eastern:20231123T100000
DTEND;TZID=US/Eastern:20231123T170000
DTSTAMP:20260419T141103Z
UID:d160edcf8c714310a9a0b85700f6861f@saas_stack_varnish:6080
CREATED:20231109T183205Z
LAST-MODIFIED:20231109T183211Z
URL:https://www.morton.michlibrary.org/news-events/lib-cal/library-closed-
 thanksgiving
END:VEVENT
BEGIN:VTIMEZONE
TZID:US/Eastern
X-LIC-LOCATION:US/Eastern
BEGIN:STANDARD
DTSTART:20231105T010000
TZNAME:EST
TZOFFSETFROM:-0400
TZOFFSETTO:-0500
END:STANDARD
END:VTIMEZONE
END:VCALENDAR
