BEGIN:VCALENDAR
VERSION:2.0
PRODID:-//Plone.org//NONSGML plone.app.event//EN
X-WR-TIMEZONE:US/Eastern
BEGIN:VEVENT
SUMMARY:Library Closed
DTSTART;TZID=US/Eastern:20201231T100000
DTEND;TZID=US/Eastern:20201231T170000
DTSTAMP:20260420T014245Z
UID:4bac41f126a24275841496090f4d6561@saas_stack_varnish:6080
CREATED:20201215T155046Z
DESCRIPTION:Happy New Year!
LAST-MODIFIED:20201215T155051Z
URL:https://www.morton.michlibrary.org/news-events/lib-cal/library-closed-
 9
END:VEVENT
BEGIN:VTIMEZONE
TZID:US/Eastern
X-LIC-LOCATION:US/Eastern
BEGIN:STANDARD
DTSTART:20201101T010000
TZNAME:EST
TZOFFSETFROM:-0400
TZOFFSETTO:-0500
END:STANDARD
END:VTIMEZONE
END:VCALENDAR
