BEGIN:VCALENDAR
VERSION:2.0
PRODID:-//Plone.org//NONSGML plone.app.event//EN
X-WR-TIMEZONE:US/Eastern
BEGIN:VEVENT
SUMMARY:Library Closed
DTSTART;TZID=US/Eastern:20201225T100000
DTEND;TZID=US/Eastern:20201225T170000
DTSTAMP:20260420T014348Z
UID:602ea3405d36482e974a74154c44ec25@saas_stack_varnish:6080
CREATED:20201215T153341Z
DESCRIPTION:Merry Christmas!
LAST-MODIFIED:20201215T153345Z
URL:https://www.morton.michlibrary.org/news-events/lib-cal/library-closed-
 7
END:VEVENT
BEGIN:VTIMEZONE
TZID:US/Eastern
X-LIC-LOCATION:US/Eastern
BEGIN:STANDARD
DTSTART:20201101T010000
TZNAME:EST
TZOFFSETFROM:-0400
TZOFFSETTO:-0500
END:STANDARD
END:VTIMEZONE
END:VCALENDAR
