BEGIN:VCALENDAR
VERSION:2.0
PRODID:-//Plone.org//NONSGML plone.app.event//EN
X-WR-TIMEZONE:US/Eastern
BEGIN:VEVENT
SUMMARY:Library Closed
DTSTART;TZID=US/Eastern:20241128T100000
DTEND;TZID=US/Eastern:20241128T170000
DTSTAMP:20260423T082518Z
UID:4b4ae8d95af54855a864d397411ac472@saas_stack_varnish:6080
CREATED:20241121T175602Z
DESCRIPTION:The library is closed for Thanksgiving.
LAST-MODIFIED:20241121T175609Z
URL:https://www.morton.michlibrary.org/news-events/lib-cal/library-closed-
 28
END:VEVENT
BEGIN:VTIMEZONE
TZID:US/Eastern
X-LIC-LOCATION:US/Eastern
BEGIN:STANDARD
DTSTART:20241103T010000
TZNAME:EST
TZOFFSETFROM:-0400
TZOFFSETTO:-0500
END:STANDARD
END:VTIMEZONE
END:VCALENDAR
