BEGIN:VCALENDAR
VERSION:2.0
PRODID:-//Plone.org//NONSGML plone.app.event//EN
X-WR-TIMEZONE:US/Eastern
BEGIN:VEVENT
SUMMARY:Library Closed
DTSTART;TZID=US/Eastern:20240704T100000
DTEND;TZID=US/Eastern:20240704T170000
DTSTAMP:20260423T090031Z
UID:31bd0236a7834218a24c2d0818dad07f@saas_stack_varnish:6080
CREATED:20240703T190726Z
DESCRIPTION:Library is closed in observance of Independence Day.
LAST-MODIFIED:20240703T190733Z
URL:https://www.morton.michlibrary.org/news-events/lib-cal/library-closed-
 27
END:VEVENT
BEGIN:VTIMEZONE
TZID:US/Eastern
X-LIC-LOCATION:US/Eastern
BEGIN:DAYLIGHT
DTSTART:20240310T030000
TZNAME:EDT
TZOFFSETFROM:-0500
TZOFFSETTO:-0400
END:DAYLIGHT
END:VTIMEZONE
END:VCALENDAR
