BEGIN:VCALENDAR
VERSION:2.0
PRODID:-//Plone.org//NONSGML plone.app.event//EN
X-WR-TIMEZONE:US/Eastern
BEGIN:VEVENT
SUMMARY:Library Closed
DTSTART;TZID=US/Eastern:20240525T100000
DTEND;TZID=US/Eastern:20240525T130000
DTSTAMP:20260421T100703Z
UID:c2c7e09eebc74dbf9c3fc4ef4185f7e3@saas_stack_varnish:6080
CREATED:20240517T181924Z
DESCRIPTION:The library will be closed Saturday\, May 25th\, in observance
  of Memorial Day weekend.  Regular hours will resume\, Tuesday\, May 28th 
 at 10 a.m.
LAST-MODIFIED:20240517T181931Z
URL:https://www.morton.michlibrary.org/news-events/lib-cal/library-closed-
 26
END:VEVENT
BEGIN:VTIMEZONE
TZID:US/Eastern
X-LIC-LOCATION:US/Eastern
BEGIN:DAYLIGHT
DTSTART:20240310T030000
TZNAME:EDT
TZOFFSETFROM:-0500
TZOFFSETTO:-0400
END:DAYLIGHT
END:VTIMEZONE
END:VCALENDAR
