BEGIN:VCALENDAR
VERSION:2.0
PRODID:-//Plone.org//NONSGML plone.app.event//EN
X-WR-TIMEZONE:US/Eastern
BEGIN:VEVENT
SUMMARY:Library Closed
DTSTART;TZID=US/Eastern:20231230T100000
DTEND;TZID=US/Eastern:20231230T130000
DTSTAMP:20260421T121643Z
UID:bf38424265f4436a852693171ee795d1@saas_stack_varnish:6080
CREATED:20231206T195527Z
DESCRIPTION:The library is closed for the New Year holiday.
LAST-MODIFIED:20231206T195532Z
URL:https://www.morton.michlibrary.org/news-events/lib-cal/library-closed-
 23
END:VEVENT
BEGIN:VTIMEZONE
TZID:US/Eastern
X-LIC-LOCATION:US/Eastern
BEGIN:STANDARD
DTSTART:20231105T010000
TZNAME:EST
TZOFFSETFROM:-0400
TZOFFSETTO:-0500
END:STANDARD
END:VTIMEZONE
END:VCALENDAR
