BEGIN:VCALENDAR
VERSION:2.0
PRODID:-//Plone.org//NONSGML plone.app.event//EN
X-WR-TIMEZONE:US/Eastern
BEGIN:VEVENT
SUMMARY:Library Closed
DTSTART;TZID=US/Eastern:20231226T100000
DTEND;TZID=US/Eastern:20231226T170000
DTSTAMP:20260421T121649Z
UID:12003d4069554664bf778c90c450a00d@saas_stack_varnish:6080
CREATED:20231206T195427Z
DESCRIPTION:The library is closed for the Christmas holiday.
LAST-MODIFIED:20231206T195433Z
URL:https://www.morton.michlibrary.org/news-events/lib-cal/library-closed-
 22
END:VEVENT
BEGIN:VTIMEZONE
TZID:US/Eastern
X-LIC-LOCATION:US/Eastern
BEGIN:STANDARD
DTSTART:20231105T010000
TZNAME:EST
TZOFFSETFROM:-0400
TZOFFSETTO:-0500
END:STANDARD
END:VTIMEZONE
END:VCALENDAR
