BEGIN:VCALENDAR
VERSION:2.0
PRODID:-//Plone.org//NONSGML plone.app.event//EN
X-WR-TIMEZONE:US/Eastern
BEGIN:VEVENT
SUMMARY:Library Closed
DTSTART;TZID=US/Eastern:20231223T100000
DTEND;TZID=US/Eastern:20231223T130000
DTSTAMP:20260421T121643Z
UID:0eed789122b54e50bd3d893df95cd15a@saas_stack_varnish:6080
CREATED:20231206T195320Z
DESCRIPTION:The library will be closed for the Christmas holiday.
LAST-MODIFIED:20231206T195327Z
URL:https://www.morton.michlibrary.org/news-events/lib-cal/library-closed-
 21
END:VEVENT
BEGIN:VTIMEZONE
TZID:US/Eastern
X-LIC-LOCATION:US/Eastern
BEGIN:STANDARD
DTSTART:20231105T010000
TZNAME:EST
TZOFFSETFROM:-0400
TZOFFSETTO:-0500
END:STANDARD
END:VTIMEZONE
END:VCALENDAR
