BEGIN:VCALENDAR
VERSION:2.0
PRODID:-//Plone.org//NONSGML plone.app.event//EN
X-WR-TIMEZONE:US/Eastern
BEGIN:VEVENT
SUMMARY:Library Closed
DTSTART;TZID=US/Eastern:20230902T100000
DTEND;TZID=US/Eastern:20230902T130000
DTSTAMP:20260419T154026Z
UID:ac5a298ad977471a9224d15da2e42659@saas_stack_varnish:6080
CREATED:20230829T185425Z
DESCRIPTION:The library is closed in observance of Labor Day Weekend.
LAST-MODIFIED:20230829T185431Z
URL:https://www.morton.michlibrary.org/news-events/lib-cal/library-closed-
 20
END:VEVENT
BEGIN:VTIMEZONE
TZID:US/Eastern
X-LIC-LOCATION:US/Eastern
BEGIN:DAYLIGHT
DTSTART:20230312T030000
TZNAME:EDT
TZOFFSETFROM:-0500
TZOFFSETTO:-0400
END:DAYLIGHT
END:VTIMEZONE
END:VCALENDAR
