BEGIN:VCALENDAR
VERSION:2.0
PRODID:-//Plone.org//NONSGML plone.app.event//EN
X-WR-TIMEZONE:US/Eastern
BEGIN:VEVENT
SUMMARY:Library Closed - Good Friday
DTSTART;TZID=US/Eastern:20230407T100000
DTEND;TZID=US/Eastern:20230407T170000
DTSTAMP:20260419T182921Z
UID:91211acbb89a43cbb358ab1789acbe2e@saas_stack_varnish:6080
CREATED:20230403T174212Z
DESCRIPTION:Closed in Observance of Good Friday
LAST-MODIFIED:20230403T174242Z
URL:https://www.morton.michlibrary.org/news-events/lib-cal/library-closed-
 18
END:VEVENT
BEGIN:VTIMEZONE
TZID:US/Eastern
X-LIC-LOCATION:US/Eastern
BEGIN:DAYLIGHT
DTSTART:20230312T030000
TZNAME:EDT
TZOFFSETFROM:-0500
TZOFFSETTO:-0400
END:DAYLIGHT
END:VTIMEZONE
END:VCALENDAR
