BEGIN:VCALENDAR
VERSION:2.0
PRODID:-//Plone.org//NONSGML plone.app.event//EN
X-WR-TIMEZONE:US/Eastern
BEGIN:VEVENT
SUMMARY:Library Closed
DTSTART;TZID=US/Eastern:20221230T100000
DTEND;TZID=US/Eastern:20221230T170000
DTSTAMP:20260419T195253Z
UID:35b1e873dfde41f689c777aededef4f1@saas_stack_varnish:6080
RRULE:FREQ=DAILY;UNTIL=20221231T000000
CREATED:20221217T152704Z
DESCRIPTION:Closed for the New Year Holiday
LAST-MODIFIED:20221217T152709Z
URL:https://www.morton.michlibrary.org/news-events/lib-cal/library-closed-
 17
END:VEVENT
BEGIN:VTIMEZONE
TZID:US/Eastern
X-LIC-LOCATION:US/Eastern
BEGIN:STANDARD
DTSTART:20221106T010000
TZNAME:EST
TZOFFSETFROM:-0400
TZOFFSETTO:-0500
END:STANDARD
END:VTIMEZONE
END:VCALENDAR
