BEGIN:VCALENDAR
VERSION:2.0
PRODID:-//Plone.org//NONSGML plone.app.event//EN
X-WR-TIMEZONE:US/Eastern
BEGIN:VEVENT
SUMMARY:Library Closed
DTSTART;TZID=US/Eastern:20221223T100000
DTEND;TZID=US/Eastern:20221223T170000
DTSTAMP:20260419T194559Z
UID:c203cc5c93c64c37a46e4b9a09cb3986@saas_stack_varnish:6080
RRULE:FREQ=DAILY;UNTIL=20221224T000000
CREATED:20221217T152405Z
DESCRIPTION:Closed for the Christmas Holiday
LAST-MODIFIED:20221217T152515Z
URL:https://www.morton.michlibrary.org/news-events/lib-cal/library-closed-
 16
END:VEVENT
BEGIN:VTIMEZONE
TZID:US/Eastern
X-LIC-LOCATION:US/Eastern
BEGIN:STANDARD
DTSTART:20221106T010000
TZNAME:EST
TZOFFSETFROM:-0400
TZOFFSETTO:-0500
END:STANDARD
END:VTIMEZONE
END:VCALENDAR
