BEGIN:VCALENDAR
VERSION:2.0
PRODID:-//Plone.org//NONSGML plone.app.event//EN
X-WR-TIMEZONE:US/Eastern
BEGIN:VEVENT
SUMMARY:Library Closed
DTSTART;TZID=US/Eastern:20220415T100000
DTEND;TZID=US/Eastern:20220415T170000
DTSTAMP:20260419T224951Z
UID:ca75328b345a426eb57896915fc84287@saas_stack_varnish:6080
CREATED:20220406T175951Z
LAST-MODIFIED:20220406T175958Z
URL:https://www.morton.michlibrary.org/news-events/lib-cal/library-closed-
 14
END:VEVENT
BEGIN:VTIMEZONE
TZID:US/Eastern
X-LIC-LOCATION:US/Eastern
BEGIN:DAYLIGHT
DTSTART:20220313T030000
TZNAME:EDT
TZOFFSETFROM:-0500
TZOFFSETTO:-0400
END:DAYLIGHT
END:VTIMEZONE
END:VCALENDAR
