BEGIN:VCALENDAR
VERSION:2.0
PRODID:-//Plone.org//NONSGML plone.app.event//EN
X-WR-TIMEZONE:US/Eastern
BEGIN:VEVENT
SUMMARY:Library Closed
DTSTART;TZID=US/Eastern:20211224T100000
DTEND;TZID=US/Eastern:20211224T170000
DTSTAMP:20260420T001249Z
UID:febab094cbae4970b9987b11d21dbb43@saas_stack_varnish:6080
RRULE:FREQ=DAILY;UNTIL=20220101T000000
EXDATE;TZID=US/Eastern:20211226T000000,20211227T000000,20211228T000000,202
 11229T000000,20211230T000000
CREATED:20211214T182745Z
LAST-MODIFIED:20211214T182757Z
URL:https://www.morton.michlibrary.org/news-events/lib-cal/library-closed-
 13
END:VEVENT
BEGIN:VTIMEZONE
TZID:US/Eastern
X-LIC-LOCATION:US/Eastern
BEGIN:STANDARD
DTSTART:20211107T010000
TZNAME:EST
TZOFFSETFROM:-0400
TZOFFSETTO:-0500
END:STANDARD
END:VTIMEZONE
END:VCALENDAR
