BEGIN:VCALENDAR
VERSION:2.0
PRODID:-//Plone.org//NONSGML plone.app.event//EN
X-WR-TIMEZONE:US/Eastern
BEGIN:VEVENT
SUMMARY:Library Closed
DTSTART;TZID=US/Eastern:20220101T100000
DTEND;TZID=US/Eastern:20220101T170000
DTSTAMP:20260420T001447Z
UID:febab094cbae4970b9987b11d21dbb43@saas_stack_varnish:6080
CREATED:20211214T182745Z
LAST-MODIFIED:20211214T182757Z
URL:https://www.morton.michlibrary.org/news-events/lib-cal/library-closed-
 13/2022-01-01
END:VEVENT
BEGIN:VTIMEZONE
TZID:US/Eastern
X-LIC-LOCATION:US/Eastern
BEGIN:STANDARD
DTSTART:20211107T010000
TZNAME:EST
TZOFFSETFROM:-0400
TZOFFSETTO:-0500
END:STANDARD
END:VTIMEZONE
END:VCALENDAR
