BEGIN:VCALENDAR
VERSION:2.0
PRODID:-//Plone.org//NONSGML plone.app.event//EN
X-WR-TIMEZONE:US/Eastern
BEGIN:VEVENT
SUMMARY:Library Board Meeting
DTSTART;TZID=US/Eastern:20221108T163000
DTEND;TZID=US/Eastern:20221108T173000
DTSTAMP:20260419T195433Z
UID:0e93a577789e405e918320dc48cee143@saas_stack_varnish:6080
CREATED:20220420T163211Z
LAST-MODIFIED:20220420T163217Z
LOCATION:Library Community Room
URL:https://www.morton.michlibrary.org/news-events/lib-cal/library-board-m
 eeting/2022-11-08
END:VEVENT
BEGIN:VTIMEZONE
TZID:US/Eastern
X-LIC-LOCATION:US/Eastern
BEGIN:STANDARD
DTSTART:20221106T010000
TZNAME:EST
TZOFFSETFROM:-0400
TZOFFSETTO:-0500
END:STANDARD
END:VTIMEZONE
END:VCALENDAR
