BEGIN:VCALENDAR
VERSION:2.0
PRODID:-//Plone.org//NONSGML plone.app.event//EN
X-WR-TIMEZONE:US/Eastern
BEGIN:VEVENT
SUMMARY:Library Board Meeting - Cancelled
DTSTART;TZID=US/Eastern:20240910T163000
DTEND;TZID=US/Eastern:20240910T173000
DTSTAMP:20260421T082838Z
UID:ddb8688473924d888901ed94c010008d@saas_stack_varnish:6080
CREATED:20240910T182625Z
LAST-MODIFIED:20240912T132802Z
LOCATION:Morton Township Library Community Room
URL:https://www.morton.michlibrary.org/news-events/lib-cal/library-board-m
 eeting-3
END:VEVENT
BEGIN:VTIMEZONE
TZID:US/Eastern
X-LIC-LOCATION:US/Eastern
BEGIN:DAYLIGHT
DTSTART:20240310T030000
TZNAME:EDT
TZOFFSETFROM:-0500
TZOFFSETTO:-0400
END:DAYLIGHT
END:VTIMEZONE
END:VCALENDAR
