BEGIN:VCALENDAR
VERSION:2.0
PRODID:-//Plone.org//NONSGML plone.app.event//EN
X-WR-TIMEZONE:US/Eastern
BEGIN:VEVENT
SUMMARY:Library Board Meeting
DTSTART;TZID=US/Eastern:20240514T163000
DTEND;TZID=US/Eastern:20240514T173000
DTSTAMP:20260421T090136Z
UID:30454cc3413141ee959adbb5c7f638ca@saas_stack_varnish:6080
RRULE:FREQ=MONTHLY;UNTIL=20241211T000000;BYDAY=+2TU
EXDATE;TZID=US/Eastern:20240910T000000
CREATED:20240104T142005Z
LAST-MODIFIED:20240910T182421Z
LOCATION:Morton Township Library Community Room
URL:https://www.morton.michlibrary.org/news-events/lib-cal/library-board-m
 eeting-2
END:VEVENT
BEGIN:VTIMEZONE
TZID:US/Eastern
X-LIC-LOCATION:US/Eastern
BEGIN:DAYLIGHT
DTSTART:20240310T030000
TZNAME:EDT
TZOFFSETFROM:-0500
TZOFFSETTO:-0400
END:DAYLIGHT
END:VTIMEZONE
END:VCALENDAR
