BEGIN:VCALENDAR
VERSION:2.0
PRODID:-//Plone.org//NONSGML plone.app.event//EN
X-WR-TIMEZONE:US/Eastern
BEGIN:VEVENT
SUMMARY:Lego Club
DTSTART;TZID=US/Eastern:20240316T110000
DTEND;TZID=US/Eastern:20240316T120000
DTSTAMP:20260421T090135Z
UID:254925b170dd417084820e0bb2a3fb46@saas_stack_varnish:6080
RRULE:FREQ=MONTHLY;UNTIL=20240519T000000;BYDAY=+3SA
CREATED:20240222T174000Z
DESCRIPTION:Calling all LEGO fans in grades K-5!  Join us for Saturday mo
 rning Lego Club. Design and construct an amazing creation\, participate in
  the monthly challenge\, and display your creation in the library if you'd
  like!  All supplies are provided.  \n\nLego Club is made possible in p
 art by the Mid-Michigan Library League.
LAST-MODIFIED:20240222T174027Z
LOCATION:Morton Township Library Community Room
URL:https://www.morton.michlibrary.org/news-events/lib-cal/lego-club
END:VEVENT
BEGIN:VTIMEZONE
TZID:US/Eastern
X-LIC-LOCATION:US/Eastern
BEGIN:DAYLIGHT
DTSTART:20240310T030000
TZNAME:EDT
TZOFFSETFROM:-0500
TZOFFSETTO:-0400
END:DAYLIGHT
END:VTIMEZONE
END:VCALENDAR
