BEGIN:VCALENDAR
VERSION:2.0
PRODID:-//Plone.org//NONSGML plone.app.event//EN
X-WR-TIMEZONE:US/Eastern
BEGIN:VEVENT
SUMMARY:Juggling Workshop - Teen Summer Reading Program
DTSTART;TZID=US/Eastern:20190718T133000
DTEND;TZID=US/Eastern:20190718T143000
DTSTAMP:20260420T090740Z
UID:f836e7e0476d4a1bb30c0433787b587a@saas_stack_varnish:6080
CREATED:20190514T194213Z
DESCRIPTION:Laugh and learn while Joel Tacey teaches you how to juggle!  T
 he workshop will begin with an exciting demonstration\, and then it will b
 e your turn to join in the fun!
LAST-MODIFIED:20190514T194220Z
LOCATION:Library Community Room
URL:https://www.morton.michlibrary.org/news-events/lib-cal/juggling-worksh
 op-teen-summer-reading-program
END:VEVENT
BEGIN:VTIMEZONE
TZID:US/Eastern
X-LIC-LOCATION:US/Eastern
BEGIN:DAYLIGHT
DTSTART:20190310T030000
TZNAME:EDT
TZOFFSETFROM:-0500
TZOFFSETTO:-0400
END:DAYLIGHT
END:VTIMEZONE
END:VCALENDAR
