BEGIN:VCALENDAR
VERSION:2.0
PRODID:-//Plone.org//NONSGML plone.app.event//EN
X-WR-TIMEZONE:US/Eastern
BEGIN:VEVENT
SUMMARY:John Ball Zoo - "Zoo to You!" - Children's Summer Reading Program
DTSTART;TZID=US/Eastern:20230621T133000
DTEND;TZID=US/Eastern:20230621T143000
DTSTAMP:20260419T170735Z
UID:e6701fc708e944c28f284f1d3c5b534c@saas_stack_varnish:6080
CREATED:20230517T185306Z
DESCRIPTION:Learn about wildlife with John Ball Zoo educational staff in t
 his interactive live animal presentation.
LAST-MODIFIED:20230517T185327Z
LOCATION:Morton Township Library Community Room
URL:https://www.morton.michlibrary.org/news-events/lib-cal/john-ball-zoo-z
 oo-to-you
END:VEVENT
BEGIN:VTIMEZONE
TZID:US/Eastern
X-LIC-LOCATION:US/Eastern
BEGIN:DAYLIGHT
DTSTART:20230312T030000
TZNAME:EDT
TZOFFSETFROM:-0500
TZOFFSETTO:-0400
END:DAYLIGHT
END:VTIMEZONE
END:VCALENDAR
