BEGIN:VCALENDAR
VERSION:2.0
PRODID:-//Plone.org//NONSGML plone.app.event//EN
X-WR-TIMEZONE:US/Eastern
BEGIN:VEVENT
SUMMARY:John Ball Traveling Zoo - Live Animals
DTSTART;TZID=US/Eastern:20220714T133000
DTEND;TZID=US/Eastern:20220714T143000
DTSTAMP:20260419T212837Z
UID:a0c055345eda496aa2c7a7d0a5b2607e@saas_stack_varnish:6080
CREATED:20220516T141216Z
DESCRIPTION:This live animal program will feature a variety of mammals\, r
 eptiles\, and birds to provide a fascinating and unforgettable experience.
LAST-MODIFIED:20220516T141316Z
LOCATION:Library Community Room
URL:https://www.morton.michlibrary.org/news-events/lib-cal/john-ball-trave
 ling-zoo-live-animals
END:VEVENT
BEGIN:VTIMEZONE
TZID:US/Eastern
X-LIC-LOCATION:US/Eastern
BEGIN:DAYLIGHT
DTSTART:20220313T030000
TZNAME:EDT
TZOFFSETFROM:-0500
TZOFFSETTO:-0400
END:DAYLIGHT
END:VTIMEZONE
END:VCALENDAR
