BEGIN:VCALENDAR
VERSION:2.0
PRODID:-//Plone.org//NONSGML plone.app.event//EN
X-WR-TIMEZONE:US/Eastern
BEGIN:VEVENT
SUMMARY:Joel Tacey's AstroReader Magical Comedy Show - Children's Summer R
 eading Program
DTSTART;TZID=US/Eastern:20190619T183000
DTEND;TZID=US/Eastern:20190619T193000
DTSTAMP:20260420T101610Z
UID:03fde6f8e3464818a9e57c95f4097cb9@saas_stack_varnish:6080
CREATED:20190514T184220Z
DESCRIPTION:3...2...1...Blastoff into reading with Spaceman Joel!  Featuri
 ng dazzling magic\, silly stunts\, and goofy gadgets\, this wholesome yout
 h program will have kids and grown-ups laughing out loud and crazy about r
 eading!
LAST-MODIFIED:20190514T184243Z
LOCATION:Library Community Room
URL:https://www.morton.michlibrary.org/news-events/lib-cal/joel-taceys-ast
 roreader-magical-comedy-show
END:VEVENT
BEGIN:VTIMEZONE
TZID:US/Eastern
X-LIC-LOCATION:US/Eastern
BEGIN:DAYLIGHT
DTSTART:20190310T030000
TZNAME:EDT
TZOFFSETFROM:-0500
TZOFFSETTO:-0400
END:DAYLIGHT
END:VTIMEZONE
END:VCALENDAR
