BEGIN:VCALENDAR
VERSION:2.0
PRODID:-//Plone.org//NONSGML plone.app.event//EN
X-WR-TIMEZONE:US/Eastern
BEGIN:VEVENT
SUMMARY:Isle Royal: Wilderness Island with Loreen Niewenhuis
DTSTART;TZID=US/Eastern:20180807T190000
DTEND;TZID=US/Eastern:20180807T200000
DTSTAMP:20260422T122406Z
UID:8b3a009a43b64753962252c6ecf46b55@saas_stack_varnish:6080
CREATED:20180515T235632Z
DESCRIPTION:Author and adventurer\, Loreen Niewenhuis\, returns to us to t
 alk about Isle Royal\, one of the islands around the Great Lakes.  From th
 e time she was a young girl climbing sand dunes and splashing in its cool 
 waters\, Loreen has felt connected to the Great Lakes.  She has walked aro
 und Lake Michigan and is now exploring the islands.
LAST-MODIFIED:20180515T235639Z
LOCATION:Community Room
URL:https://www.morton.michlibrary.org/news-events/lib-cal/isle-royal-wild
 erness-island-with-loreen-niewenhuis
END:VEVENT
BEGIN:VTIMEZONE
TZID:US/Eastern
X-LIC-LOCATION:US/Eastern
BEGIN:DAYLIGHT
DTSTART:20180311T030000
TZNAME:EDT
TZOFFSETFROM:-0500
TZOFFSETTO:-0400
END:DAYLIGHT
END:VTIMEZONE
END:VCALENDAR
