BEGIN:VCALENDAR
VERSION:2.0
PRODID:-//Plone.org//NONSGML plone.app.event//EN
X-WR-TIMEZONE:US/Eastern
BEGIN:VEVENT
SUMMARY:I Take My Pen In Hand: Soldiers' Diaries and Letters presented by 
 Reenactor Rob Stone
DTSTART;TZID=US/Eastern:20230712T190000
DTEND;TZID=US/Eastern:20230712T200000
DTSTAMP:20260419T171116Z
UID:b9a277d9a5c9466ca7363752446b88bc@saas_stack_varnish:6080
CREATED:20230419T142632Z
DESCRIPTION:With great attention to detail and a deep knowledge of America
 n social and military history\, Civil War reenactor Rob Stone portrays a Y
 ankee (Federal) infantryman for the entirety of his presentation on the di
 aries of Civil War soldiers. Soldiers recorded their hopes\, adventures\, 
 and fears in their diaries\, and exchanged many letters home. Learn how th
 ese writings was a key to maintaining morale both at home and on the front
  lines.
LAST-MODIFIED:20230419T142703Z
LOCATION:Morton Township Library Community Room
URL:https://www.morton.michlibrary.org/news-events/lib-cal/i-take-my-pen-i
 n-hand-soldiers-diaries-and-letters
END:VEVENT
BEGIN:VTIMEZONE
TZID:US/Eastern
X-LIC-LOCATION:US/Eastern
BEGIN:DAYLIGHT
DTSTART:20230312T030000
TZNAME:EDT
TZOFFSETFROM:-0500
TZOFFSETTO:-0400
END:DAYLIGHT
END:VTIMEZONE
END:VCALENDAR
