BEGIN:VCALENDAR
VERSION:2.0
PRODID:-//Plone.org//NONSGML plone.app.event//EN
X-WR-TIMEZONE:US/Eastern
BEGIN:VEVENT
SUMMARY:Howell Nature Center presents "In Your Backyard" - Children's Summ
 er Reading Program
DTSTART;TZID=US/Eastern:20190703T133000
DTEND;TZID=US/Eastern:20190703T143000
DTSTAMP:20260420T101806Z
UID:6c5e6fb043cc47eabf6ef9f3c21c180d@saas_stack_varnish:6080
CREATED:20190514T184714Z
DESCRIPTION:Discover some of the animals native to Michigan in this live a
 nimal show.  Kids of all ages will enjoy learning about the characteristic
 s of Michigan birds\, mammals\, and reptiles and the habitats they occupy.
LAST-MODIFIED:20190514T184718Z
LOCATION:Library Community Room
URL:https://www.morton.michlibrary.org/news-events/lib-cal/howell-nature-c
 enter-presents-in-your-backyard-childrens-summer-reading-program
END:VEVENT
BEGIN:VTIMEZONE
TZID:US/Eastern
X-LIC-LOCATION:US/Eastern
BEGIN:DAYLIGHT
DTSTART:20190310T030000
TZNAME:EDT
TZOFFSETFROM:-0500
TZOFFSETTO:-0400
END:DAYLIGHT
END:VTIMEZONE
END:VCALENDAR
