BEGIN:VCALENDAR
VERSION:2.0
PRODID:-//Plone.org//NONSGML plone.app.event//EN
X-WR-TIMEZONE:US/Eastern
BEGIN:VEVENT
SUMMARY:Healthy Living for Your Brain and Body
DTSTART;TZID=US/Eastern:20220608T143000
DTEND;TZID=US/Eastern:20220608T150000
DTSTAMP:20260419T225457Z
UID:c98a3a681766472288ac8109b4822a2e@saas_stack_varnish:6080
CREATED:20220511T201525Z
DESCRIPTION:Learn what research has shown about lifestyle choices that may
  help keep your brain and body healthy as you age.
LAST-MODIFIED:20220511T201535Z
LOCATION:Library Community Room
URL:https://www.morton.michlibrary.org/news-events/lib-cal/healthy-living-
 for-your-brain-and-body
END:VEVENT
BEGIN:VTIMEZONE
TZID:US/Eastern
X-LIC-LOCATION:US/Eastern
BEGIN:DAYLIGHT
DTSTART:20220313T030000
TZNAME:EDT
TZOFFSETFROM:-0500
TZOFFSETTO:-0400
END:DAYLIGHT
END:VTIMEZONE
END:VCALENDAR
