BEGIN:VCALENDAR
VERSION:2.0
PRODID:-//Plone.org//NONSGML plone.app.event//EN
X-WR-TIMEZONE:US/Eastern
BEGIN:VEVENT
SUMMARY:Halloween Magic Show
DTSTART;TZID=US/Eastern:20241022T183000
DTEND;TZID=US/Eastern:20241022T191500
DTSTAMP:20260423T122503Z
UID:1e06091f4a124207a45b541397c08955@saas_stack_varnish:6080
CREATED:20241001T162203Z
DESCRIPTION:Join us for a spooktacular evening filled with thrilling illus
 ions and ghostly surprises. Prepare to be spellbound as Michigan’s funny
  man unveils spine-tingling tricks with a dash of humor and a sprinkle of 
 mystery. Perfect for all ages\, it’s a hauntingly good time. Children a
 re invited to wear their Halloween costumes\, too.
LAST-MODIFIED:20241001T162215Z
LOCATION:Morton Township Library Community Room
URL:https://www.morton.michlibrary.org/news-events/lib-cal/halloween-magic
 -show
END:VEVENT
BEGIN:VTIMEZONE
TZID:US/Eastern
X-LIC-LOCATION:US/Eastern
BEGIN:DAYLIGHT
DTSTART:20240310T030000
TZNAME:EDT
TZOFFSETFROM:-0500
TZOFFSETTO:-0400
END:DAYLIGHT
END:VTIMEZONE
END:VCALENDAR
