BEGIN:VCALENDAR
VERSION:2.0
PRODID:-//Plone.org//NONSGML plone.app.event//EN
X-WR-TIMEZONE:US/Eastern
BEGIN:VEVENT
SUMMARY:Halloween Harvest Magic Show - Family Fun Night
DTSTART;TZID=US/Eastern:20151021T183000
DTEND;TZID=US/Eastern:20151021T193000
DTSTAMP:20260420T213531Z
UID:4af095516388492cab0f1c38d24ccd43@saas_stack_varnish:6080
CREATED:20150929T181307Z
DESCRIPTION:Little ghosts and goblins will be laughing and applauding duri
 ng this exciting and not-so-scary Halloween Magic Show!  The audience will
  enjoy magic tricks\, hilarious comedy\, and spooktacular audience partici
 pation.  Trick-or-Treat safety messages will also be highlighted during th
 e show.  Kids are invited to wear their Halloween costumes\, too!  
LAST-MODIFIED:20150929T181348Z
LOCATION:Library Community Room
URL:https://www.morton.michlibrary.org/news-events/lib-cal/halloween-harve
 st-magic-show-family-fun-night
END:VEVENT
BEGIN:VTIMEZONE
TZID:US/Eastern
X-LIC-LOCATION:US/Eastern
BEGIN:DAYLIGHT
DTSTART:20150308T030000
TZNAME:EDT
TZOFFSETFROM:-0500
TZOFFSETTO:-0400
END:DAYLIGHT
END:VTIMEZONE
END:VCALENDAR
