BEGIN:VCALENDAR
VERSION:2.0
PRODID:-//Plone.org//NONSGML plone.app.event//EN
X-WR-TIMEZONE:US/Eastern
BEGIN:VEVENT
SUMMARY:Gratitude Steel Band presents Music of the Galaxy - Children's Sum
 mer Reading Program
DTSTART;TZID=US/Eastern:20190626T133000
DTEND;TZID=US/Eastern:20190626T143000
DTSTAMP:20260420T083145Z
UID:a596218a1610472a8998429ab7a3c81e@saas_stack_varnish:6080
CREATED:20190514T184517Z
DESCRIPTION:Blast off into a musical adventure that will have you singing\
 , clapping\, drumming and dancing to the unique music of African instrumen
 ts for rhythm and steel drums for melody.  Fun for the entire family!
LAST-MODIFIED:20190514T184522Z
LOCATION:Library Community Room
URL:https://www.morton.michlibrary.org/news-events/lib-cal/gratitude-steel
 -band-presents-music-of-the-galaxy-childrens-summer-reading-program
END:VEVENT
BEGIN:VTIMEZONE
TZID:US/Eastern
X-LIC-LOCATION:US/Eastern
BEGIN:DAYLIGHT
DTSTART:20190310T030000
TZNAME:EDT
TZOFFSETFROM:-0500
TZOFFSETTO:-0400
END:DAYLIGHT
END:VTIMEZONE
END:VCALENDAR
