BEGIN:VCALENDAR
VERSION:2.0
PRODID:-//Plone.org//NONSGML plone.app.event//EN
X-WR-TIMEZONE:US/Eastern
BEGIN:VEVENT
SUMMARY:Gangsters Up North presented by Robert Knapp (Online - Zoom)
DTSTART;TZID=US/Eastern:20210601T190000
DTEND;TZID=US/Eastern:20210601T200000
DTSTAMP:20260421T103831Z
UID:e507837cd85b4e6783a2c67688ff8c50@saas_stack_varnish:6080
CONTACT:https://us02web.zoom.us/j/88681377950?pwd=UW54WVphNmF4ZFJxQzNaZ0JY
 MldYdz09
CREATED:20210512T170236Z
DESCRIPTION:Gangsters play an important and colorful role in Michigan hist
 ory.  Al Capone\, the Purple \nGang\, Fred “Killer” Burke\, additional
  Public Enemies and many other hoodlums found \ntheir way up North in fact
  or fiction.  Some came for gambling\, bootlegging\, kidnapping\, and murd
 er.  Others just wanted some rest and relaxation.  For the first time\, th
 e whole colorful story will be told.  This program will be presented onlin
 e using Zoom.
LAST-MODIFIED:20210601T120247Z
LOCATION:Online - Zoom
URL:https://www.morton.michlibrary.org/news-events/lib-cal/gangsters-up-no
 rth-presented-by-robert-knapp
END:VEVENT
BEGIN:VTIMEZONE
TZID:US/Eastern
X-LIC-LOCATION:US/Eastern
BEGIN:DAYLIGHT
DTSTART:20210314T030000
TZNAME:EDT
TZOFFSETFROM:-0500
TZOFFSETTO:-0400
END:DAYLIGHT
END:VTIMEZONE
END:VCALENDAR
