BEGIN:VCALENDAR
VERSION:2.0
PRODID:-//Plone.org//NONSGML plone.app.event//EN
X-WR-TIMEZONE:US/Eastern
BEGIN:VEVENT
SUMMARY:Friends of the Library Summer Book Sale
DTSTART;TZID=US/Eastern:20230701T100000
DTEND;TZID=US/Eastern:20230701T130000
DTSTAMP:20260419T171141Z
UID:7655f35a1773451aa2d52b462475c3e7@saas_stack_varnish:6080
CREATED:20230623T134911Z
LAST-MODIFIED:20230623T134916Z
LOCATION:Morton Township Library Community Room
URL:https://www.morton.michlibrary.org/news-events/lib-cal/friends-of-the-
 library-summer-book-sale-3
END:VEVENT
BEGIN:VTIMEZONE
TZID:US/Eastern
X-LIC-LOCATION:US/Eastern
BEGIN:DAYLIGHT
DTSTART:20230312T030000
TZNAME:EDT
TZOFFSETFROM:-0500
TZOFFSETTO:-0400
END:DAYLIGHT
END:VTIMEZONE
END:VCALENDAR
