BEGIN:VCALENDAR
VERSION:2.0
PRODID:-//Plone.org//NONSGML plone.app.event//EN
X-WR-TIMEZONE:US/Eastern
BEGIN:VEVENT
SUMMARY:Friends of the Library Summer Book Sale
DTSTART;TZID=US/Eastern:20210710T100000
DTEND;TZID=US/Eastern:20210710T130000
DTSTAMP:20260420T001855Z
UID:accbab82c0744b81888f9f6c010b2198@saas_stack_varnish:6080
CREATED:20210628T194959Z
DESCRIPTION:Join us for a two-day sale of gently used fiction and non-fict
 ion books.
LAST-MODIFIED:20210628T195004Z
LOCATION:Morton Township Library Community Room
URL:https://www.morton.michlibrary.org/news-events/lib-cal/friends-of-the-
 library-summer-book-sale-1
END:VEVENT
BEGIN:VTIMEZONE
TZID:US/Eastern
X-LIC-LOCATION:US/Eastern
BEGIN:DAYLIGHT
DTSTART:20210314T030000
TZNAME:EDT
TZOFFSETFROM:-0500
TZOFFSETTO:-0400
END:DAYLIGHT
END:VTIMEZONE
END:VCALENDAR
