BEGIN:VCALENDAR
VERSION:2.0
PRODID:-//Plone.org//NONSGML plone.app.event//EN
X-WR-TIMEZONE:US/Eastern
BEGIN:VEVENT
SUMMARY:Friends of the Library Holiday Cookie Walk
DTSTART;TZID=US/Eastern:20181207T100000
DTEND;TZID=US/Eastern:20181207T130000
DTSTAMP:20260420T103447Z
UID:af453cf9465149f1b8e197426d5968b9@saas_stack_varnish:6080
CREATED:20181116T153608Z
DESCRIPTION:A variety of homemade holiday cookies will be sold by the poun
 d.  They are great to share with your family or for holiday gatherings! 
  Arrive early for the best selection.  This fundraiser helps support the 
 library's programs for children\, teens and adults.
LAST-MODIFIED:20181116T153613Z
LOCATION:Library Community Room
URL:https://www.morton.michlibrary.org/news-events/lib-cal/friends-of-the-
 library-holiday-cookie-walk
END:VEVENT
BEGIN:VTIMEZONE
TZID:US/Eastern
X-LIC-LOCATION:US/Eastern
BEGIN:STANDARD
DTSTART:20181104T010000
TZNAME:EST
TZOFFSETFROM:-0400
TZOFFSETTO:-0500
END:STANDARD
END:VTIMEZONE
END:VCALENDAR
